BEGIN:VCALENDAR
PRODID:-//github.com/rianjs/ical.net//NONSGML ical.net 2.2//EN
VERSION:2.0
BEGIN:VEVENT
DESCRIPTION:Gavin Bros. Auctioneers | Real Estate - April Farm/Constructio
 n Consignment\nAuction Phone: (608) 524-6416\n1803 Items\n\nhttps://aucti
 onresource.com/auctions/56767/april-farmconstruction-consignment
DTSTAMP:20260424T132951Z
DTSTART:20260430T140000Z
LOCATION:E7429 State Road 23 and 33\, Reedsburg\, WI 53959
SEQUENCE:0
SUMMARY:April Farm/Construction Consignment
UID:f3bff674-2abf-4f3a-950e-1fb856256031
URL:https://auctionresource.com/auctions/56767/april-farmconstruction-cons
 ignment
END:VEVENT
END:VCALENDAR
