BEGIN:VCALENDAR
PRODID:-//github.com/rianjs/ical.net//NONSGML ical.net 2.2//EN
VERSION:2.0
BEGIN:VEVENT
DESCRIPTION:Gavin Bros. Auctioneers | Real Estate - Mike Kriegel Estate Au
 ction\nAuction Phone: (608) 524-6416\n445 Items\n\nhttps://auctionresourc
 e.com/auctions/56766/mike-kriegel-estate-auction
DTSTAMP:20260424T132951Z
DTSTART:20260428T140000Z
LOCATION:E7429 State Road 23 and 33\, Reedsburg\, WI 53959
SEQUENCE:0
SUMMARY:Mike Kriegel Estate Auction
UID:19c5f439-f431-4f10-8d9d-3e53620bea36
URL:https://auctionresource.com/auctions/56766/mike-kriegel-estate-auction
END:VEVENT
END:VCALENDAR
