BEGIN:VCALENDAR
PRODID:-//github.com/rianjs/ical.net//NONSGML ical.net 2.2//EN
VERSION:2.0
BEGIN:VEVENT
DESCRIPTION:MasCo Equipment LLC - Spring Ag/Construction Equipment Auction
  Ring 1\nAuction Phone: (903) 951-2046\n68 Items\n\nhttps://auctionresour
 ce.com/auctions/56764/spring-agconstruction-equipment-auction-ring-1
DTSTAMP:20260424T132951Z
DTSTART:20260507T130000Z
LOCATION:1129 Industrial Dr W\, Sulphur Springs\, TX 75482
SEQUENCE:0
SUMMARY:Spring Ag/Construction Equipment Auction Ring 1
UID:703c838a-3d2b-45f1-998a-e5cf7857e7fe
URL:https://auctionresource.com/auctions/56764/spring-agconstruction-equip
 ment-auction-ring-1
END:VEVENT
END:VCALENDAR
