BEGIN:VCALENDAR
PRODID:-//github.com/rianjs/ical.net//NONSGML ical.net 2.2//EN
VERSION:2.0
BEGIN:VEVENT
DESCRIPTION:Lippard Auctioneers - 5/10 Paul Keith Auction Faxon OK\nAuctio
 n Phone: (580) 237-7174\n974 Items\n\nhttps://auctionresource.com/auction
 s/56763/510-paul-keith-auction-faxon-ok
DTSTAMP:20260424T132951Z
DTSTART:20260510T230000Z
LOCATION:11516 SW Baseline Rd\, Faxon\, OK 73540
SEQUENCE:0
SUMMARY:5/10 Paul Keith Auction Faxon OK
UID:e40d96c5-9203-4b81-bc13-29adcfb3230a
URL:https://auctionresource.com/auctions/56763/510-paul-keith-auction-faxo
 n-ok
END:VEVENT
END:VCALENDAR
