BEGIN:VCALENDAR
PRODID:-//github.com/rianjs/ical.net//NONSGML ical.net 2.2//EN
VERSION:2.0
BEGIN:VEVENT
DESCRIPTION:Hansen Auction Group - 4 Day Spring Nitke Contractor Auction 2
 026 - Mosinee\, WI\nAuction Phone: 7155396295\n2053 Items\n\nhttps://auct
 ionresource.com/auctions/56762/4-day-spring-nitke-contractor-auction-2026
 ---mosinee-wi
DTSTAMP:20260424T130650Z
DTSTART:20260430T133000Z
LOCATION:990 Happy Hollow Road\, Mosinee\, WI 54455
SEQUENCE:0
SUMMARY:4 Day Spring Nitke Contractor Auction 2026 - Mosinee\, WI
UID:b1cc4c7d-be3c-4747-8d3e-2d78a70eee7c
URL:https://auctionresource.com/auctions/56762/4-day-spring-nitke-contract
 or-auction-2026---mosinee-wi
END:VEVENT
END:VCALENDAR
