BEGIN:VCALENDAR
PRODID:-//github.com/rianjs/ical.net//NONSGML ical.net 2.2//EN
VERSION:2.0
BEGIN:VEVENT
DESCRIPTION:Bright Star Auctions - Heritage Oak LLC – Absolute Sawmill & W
 oodworking Equipment Auction – Sarcoxie\, MO\nAuction Phone: 5748217530\n
 0 Items\n\nhttps://auctionresource.com/auctions/56756/heritage-oak-llc--a
 bsolute-sawmill--woodworking-equipment-auction--sarcoxie-mo
DTSTAMP:20260424T133606Z
DTSTART:20260619T130000Z
LOCATION:137 State Highway 37\, Sarcoxie\, MO 64862
SEQUENCE:0
SUMMARY:Heritage Oak LLC – Absolute Sawmill & Woodworking Equipment Auctio
 n – Sarcoxie\, MO
UID:fb1b1b1e-0f09-434a-8072-8313d159b552
URL:https://auctionresource.com/auctions/56756/heritage-oak-llc--absolute-
 sawmill--woodworking-equipment-auction--sarcoxie-mo
END:VEVENT
END:VCALENDAR
