BEGIN:VCALENDAR
PRODID:-//github.com/rianjs/ical.net//NONSGML ical.net 2.2//EN
VERSION:2.0
BEGIN:VEVENT
DESCRIPTION:Pifer's Auctioneers - TIMED ONLINE: Marlin Fried Estate Gun an
 d Collectible Auction\nAuction Phone: 7012208953\n0 Items\n\nhttps://auct
 ionresource.com/auctions/56754/timed-online-marlin-fried-estate-gun-and-c
 ollectible-auction
DTSTAMP:20260424T133606Z
DTSTART:20260610T170000Z
LOCATION:510 7th St NW Steele ND 58482
SEQUENCE:0
SUMMARY:TIMED ONLINE: Marlin Fried Estate Gun and Collectible Auction
UID:dd9e5f75-572f-4f77-865d-d17b7d6bc7c9
URL:https://auctionresource.com/auctions/56754/timed-online-marlin-fried-e
 state-gun-and-collectible-auction
END:VEVENT
END:VCALENDAR
