BEGIN:VCALENDAR
PRODID:-//github.com/rianjs/ical.net//NONSGML ical.net 2.2//EN
VERSION:2.0
BEGIN:VEVENT
DESCRIPTION:Aumann Auctions - 2026 Pre '30 Implements\, Tractor and Engine
  Parts Auction\nAuction Phone: 2175632523\n0 Items\n\nhttps://auctionreso
 urce.com/auctions/56753/2026-pre-30-implements-tractor-and-engine-parts-a
 uction
DTSTAMP:20260423T155827Z
DTSTART:20260430T230000Z
LOCATION:20114 IL RT. 16\, Nokomis\, Illinois 62075
SEQUENCE:0
SUMMARY:2026 Pre '30 Implements\, Tractor and Engine Parts Auction
UID:124a3db2-840f-4652-a992-b0c787631990
URL:https://auctionresource.com/auctions/56753/2026-pre-30-implements-trac
 tor-and-engine-parts-auction
END:VEVENT
END:VCALENDAR
