BEGIN:VCALENDAR
PRODID:-//github.com/rianjs/ical.net//NONSGML ical.net 2.2//EN
VERSION:2.0
BEGIN:VEVENT
DESCRIPTION:WSM Auctioneers - MISCELLANEOUS ONLINE PUBLIC AUCTION\nAuction
  Phone: 6239363300\n247 Items\n\nhttps://auctionresource.com/auctions/567
 50/miscellaneous-online-public-auction
DTSTAMP:20260424T132951Z
DTSTART:20260505T140000Z
LOCATION:1616 S 67 Ave\, Phoenix\, AZ 85043
SEQUENCE:0
SUMMARY:MISCELLANEOUS ONLINE PUBLIC AUCTION
UID:7f818cf7-be9f-4455-a5a6-b110faf5af19
URL:https://auctionresource.com/auctions/56750/miscellaneous-online-public
 -auction
END:VEVENT
END:VCALENDAR
