BEGIN:VCALENDAR
PRODID:-//github.com/rianjs/ical.net//NONSGML ical.net 2.2//EN
VERSION:2.0
BEGIN:VEVENT
DESCRIPTION:Witcher Auctions LLC - Michael Ellis Farms\nAuction Phone: (87
 0) 238-1400\n0 Items\n\nhttps://auctionresource.com/auctions/56726/michae
 l-ellis-farms
DTSTAMP:20260422T172213Z
DTSTART;VALUE=DATE:20260515
LOCATION:717 Surridge Rd\, Pocahontas\, AR 72455
SEQUENCE:0
SUMMARY:Michael Ellis Farms
UID:27c20acb-3d4b-4dbe-bd96-875e751f801c
URL:https://auctionresource.com/auctions/56726/michael-ellis-farms
END:VEVENT
END:VCALENDAR
