BEGIN:VCALENDAR
PRODID:-//github.com/rianjs/ical.net//NONSGML ical.net 2.2//EN
VERSION:2.0
BEGIN:VEVENT
DESCRIPTION:Quarrick Equipment & Auctions Inc. - May Construction & Agricu
 ltural Equipment Auction - Ring 1\nAuction Phone: (724) 631-7038\n148 Ite
 ms\n\nhttps://auctionresource.com/auctions/56686/may-construction--agricu
 ltural-equipment-auction---ring-1
DTSTAMP:20260422T172213Z
DTSTART:20260507T120000Z
LOCATION:168 Quarrick Rd Uniontown\, Pennsylvania 15401
SEQUENCE:0
SUMMARY:May Construction & Agricultural Equipment Auction - Ring 1
UID:7a0c5eee-e358-40f0-8916-6a978fad8c8d
URL:https://auctionresource.com/auctions/56686/may-construction--agricultu
 ral-equipment-auction---ring-1
END:VEVENT
END:VCALENDAR
