BEGIN:VCALENDAR
PRODID:-//github.com/rianjs/ical.net//NONSGML ical.net 2.2//EN
VERSION:2.0
BEGIN:VEVENT
DESCRIPTION:Yoder & Frey - Yoder & Frey: Ohio | April 23-24\nAuction Phone
 : 4198653990\n678 Items\n\nhttps://auctionresource.com/auctions/55132/yod
 er--frey-ohio--april-23-24
DTSTAMP:20260421T093538Z
DTSTART:20260423T130000Z
LOCATION:Findlay\, OH
SEQUENCE:0
SUMMARY:Yoder & Frey: Ohio | April 23-24
UID:d5913a7d-629c-4e98-9f07-a8935f5efbed
URL:https://auctionresource.com/auctions/55132/yoder--frey-ohio--april-23-
 24
END:VEVENT
BEGIN:VEVENT
DESCRIPTION:Yoder & Frey - Yoder & Frey: Ohio | April 23-24\nAuction Phone
 : 4198653990\n678 Items\n\nhttps://auctionresource.com/auctions/55132/yod
 er--frey-ohio--april-23-24
DTSTAMP:20260421T093538Z
DTSTART:20260424T130000Z
LOCATION:Findlay\, OH
SEQUENCE:0
SUMMARY:Yoder & Frey: Ohio | April 23-24
UID:bf18aa89-d39f-4bc8-bf47-8f57d045e869
URL:https://auctionresource.com/auctions/55132/yoder--frey-ohio--april-23-
 24
END:VEVENT
END:VCALENDAR
