BEGIN:VCALENDAR
PRODID:-//github.com/rianjs/ical.net//NONSGML ical.net 2.2//EN
VERSION:2.0
BEGIN:VEVENT
DESCRIPTION:Alex Lyon & Son - BUFFALO\, NY\nAuction Phone: 3156332944\n0 I
 tems\n\nhttps://auctionresource.com/auctions/53746/buffalo-ny
DTSTAMP:20260424T134335Z
DTSTART:20260508T133000Z
LOCATION:25 Leroy Ave\, Tarrytown\, NY 10591
SEQUENCE:0
SUMMARY:BUFFALO\, NY
UID:88945294-13c4-4f73-92a0-eb359f95a9b5
URL:https://auctionresource.com/auctions/53746/buffalo-ny
END:VEVENT
END:VCALENDAR
