BEGIN:VCALENDAR
PRODID:-//github.com/rianjs/ical.net//NONSGML ical.net 2.2//EN
VERSION:2.0
BEGIN:VEVENT
DESCRIPTION:WSM Auctioneers - Public Vehicle & Equipment Auction\nAuction 
 Phone: 6239363300\n199 Items\n\nhttps://auctionresource.com/auctions/5366
 0/public-vehicle--equipment-auction
DTSTAMP:20260425T135522Z
DTSTART:20260509T140000Z
LOCATION:1616 S 67 Ave\, Phoenix\, AZ 85043
SEQUENCE:0
SUMMARY:Public Vehicle & Equipment Auction
UID:558851af-7e9c-4730-81c1-9c0b5f9c600b
URL:https://auctionresource.com/auctions/53660/public-vehicle--equipment-a
 uction
END:VEVENT
END:VCALENDAR
